BEGIN:VCALENDAR
VERSION:2.0
PRODID:-//Klimatarena Stockholm - ECPv6.15.18//NONSGML v1.0//EN
CALSCALE:GREGORIAN
METHOD:PUBLISH
X-WR-CALNAME:Klimatarena Stockholm
X-ORIGINAL-URL:https://klimatarenastockholm.se
X-WR-CALDESC:Events for Klimatarena Stockholm
REFRESH-INTERVAL;VALUE=DURATION:PT1H
X-Robots-Tag:noindex
X-PUBLISHED-TTL:PT1H
BEGIN:VTIMEZONE
TZID:Europe/Stockholm
BEGIN:DAYLIGHT
TZOFFSETFROM:+0100
TZOFFSETTO:+0200
TZNAME:CEST
DTSTART:20230326T010000
END:DAYLIGHT
BEGIN:STANDARD
TZOFFSETFROM:+0200
TZOFFSETTO:+0100
TZNAME:CET
DTSTART:20231029T010000
END:STANDARD
BEGIN:DAYLIGHT
TZOFFSETFROM:+0100
TZOFFSETTO:+0200
TZNAME:CEST
DTSTART:20240331T010000
END:DAYLIGHT
BEGIN:STANDARD
TZOFFSETFROM:+0200
TZOFFSETTO:+0100
TZNAME:CET
DTSTART:20241027T010000
END:STANDARD
BEGIN:DAYLIGHT
TZOFFSETFROM:+0100
TZOFFSETTO:+0200
TZNAME:CEST
DTSTART:20250330T010000
END:DAYLIGHT
BEGIN:STANDARD
TZOFFSETFROM:+0200
TZOFFSETTO:+0100
TZNAME:CET
DTSTART:20251026T010000
END:STANDARD
END:VTIMEZONE
BEGIN:VEVENT
DTSTART;TZID=Europe/Stockholm:20240307T090000
DTEND;TZID=Europe/Stockholm:20240307T120000
DTSTAMP:20260422T122959
CREATED:20240202T140225Z
LAST-MODIFIED:20240202T140251Z
UID:10000014-1709802000-1709812800@klimatarenastockholm.se
SUMMARY:Arbetsgruppsträff klimatsmarta byggmaterial
DESCRIPTION:Vi avslutar vår mötesserie om byggnadsdelar med fokus på invändig stomkomplettering. Vi diskuterar även frågan om hur man sprider kunskapen från arbetsgruppen i sin organisation för att växla upp arbetet med klimatsmarta byggmaterial. \nAnmälan via Hanna Kreplin (hanna.kreplin@regionstockholm.se).
URL:https://klimatarenastockholm.se/event/arbetsgruppstraff-klimatsmarta-byggmaterial/
LOCATION:På plats
CATEGORIES:Klimatsmarta byggmaterial,Temagruppsträffar
ORGANIZER;CN="Hanna Kreplin":MAILTO:hanna.kreplin@regionstockholm.se
END:VEVENT
END:VCALENDAR