BEGIN:VCALENDAR
VERSION:2.0
PRODID:-//Klimatarena Stockholm - ECPv6.15.18//NONSGML v1.0//EN
CALSCALE:GREGORIAN
METHOD:PUBLISH
X-ORIGINAL-URL:https://klimatarenastockholm.se
X-WR-CALDESC:Events for Klimatarena Stockholm
REFRESH-INTERVAL;VALUE=DURATION:PT1H
X-Robots-Tag:noindex
X-PUBLISHED-TTL:PT1H
BEGIN:VTIMEZONE
TZID:Europe/Stockholm
BEGIN:DAYLIGHT
TZOFFSETFROM:+0100
TZOFFSETTO:+0200
TZNAME:CEST
DTSTART:20220327T010000
END:DAYLIGHT
BEGIN:STANDARD
TZOFFSETFROM:+0200
TZOFFSETTO:+0100
TZNAME:CET
DTSTART:20221030T010000
END:STANDARD
BEGIN:DAYLIGHT
TZOFFSETFROM:+0100
TZOFFSETTO:+0200
TZNAME:CEST
DTSTART:20230326T010000
END:DAYLIGHT
BEGIN:STANDARD
TZOFFSETFROM:+0200
TZOFFSETTO:+0100
TZNAME:CET
DTSTART:20231029T010000
END:STANDARD
BEGIN:DAYLIGHT
TZOFFSETFROM:+0100
TZOFFSETTO:+0200
TZNAME:CEST
DTSTART:20240331T010000
END:DAYLIGHT
BEGIN:STANDARD
TZOFFSETFROM:+0200
TZOFFSETTO:+0100
TZNAME:CET
DTSTART:20241027T010000
END:STANDARD
END:VTIMEZONE
BEGIN:VEVENT
DTSTART;TZID=Europe/Stockholm:20230919T090000
DTEND;TZID=Europe/Stockholm:20230919T110000
DTSTAMP:20260420T002644
CREATED:20230807T132842Z
LAST-MODIFIED:20231106T071906Z
UID:10000003-1695114000-1695121200@klimatarenastockholm.se
SUMMARY:Arbetsgruppsträff cirkulär planering
DESCRIPTION:Tema: Krav i markanvisningar för att främja cirkulärt byggande
URL:https://klimatarenastockholm.se/event/ag-cirkular-planering/
LOCATION:Digitalt
CATEGORIES:Cirkulär planering,Temagruppsträffar
ORGANIZER;CN="Hanna Kreplin":MAILTO:hanna.kreplin@regionstockholm.se
END:VEVENT
END:VCALENDAR